BEGIN:VCALENDAR
VERSION:2.0
PRODID:-//hacksw/handcal//NONSGML v1.0//EN
BEGIN:VEVENT
DTSTART:20230525T120000
DTEND:20230526T130000
LOCATION:Auditorium de la Faculté de Médecine de l’Université Paris-Saclay - 63 Rue Gabriel Péri, 94270 Le Kremlin-Bicêtre - Métro Le Kremlin-Bicêtre
ORGANIZER;CN=Gustave Roussy Alumni:MAILTO:alumni@gustaveroussy.fr
SUMMARY:﻿﻿Symposium iTOX 2023
DESCRIPTION:6th Symposium on Cancer Immunotherapy Adverse Events Thursday 25th and Friday 26th May 2023\nLa 6ème édition du  Symposium iTOX dédié aux effets indésirables induits par les immunothérapies en...
URL:https://alumni.gustaveroussy.fr/fr/event/-symposium-itox-2023/2023/05/25/26
BEGIN:VALARM
TRIGGER:-P0DT1H0M0S
ACTION:DISPLAY
END:VALARM
END:VEVENT
END:VCALENDAR